BEGIN:VCALENDAR
VERSION:2.0
PRODID:-//Date iCal//NONSGML kigkonsult.se iCalcreator 2.20.2//
METHOD:PUBLISH
BEGIN:VTIMEZONE
TZID:Asia/Seoul
BEGIN:STANDARD
DTSTART:19881009T030000
TZOFFSETFROM:+1000
TZOFFSETTO:+0900
TZNAME:KST
END:STANDARD
END:VTIMEZONE
BEGIN:VEVENT
UID:calendar.1990.field_date_content.0@ieu.greenclimate.fund
DTSTAMP:20260419T150103Z
CREATED:20250610T063843Z
DTSTART;TZID=Asia/Seoul:20250528T000000
DTEND;TZID=Asia/Seoul:20250528T000000
LAST-MODIFIED:20250610T063924Z
LOCATION:Hybrid
SUMMARY:IEU Learning Talk: GCF Impact on the Ground
URL;TYPE=URI:https://ieu.greenclimate.fund/event/learningtalk-may2025
END:VEVENT
END:VCALENDAR
