BEGIN:VCALENDAR
VERSION:2.0
PRODID:-//Date iCal//NONSGML kigkonsult.se iCalcreator 2.20.2//
METHOD:PUBLISH
BEGIN:VTIMEZONE
TZID:Asia/Seoul
BEGIN:STANDARD
DTSTART:19881009T030000
TZOFFSETFROM:+1000
TZOFFSETTO:+0900
TZNAME:KST
END:STANDARD
END:VTIMEZONE
BEGIN:VEVENT
UID:calendar.1919.field_date_content.0@ieu.greenclimate.fund
DTSTAMP:20260423T203047Z
CREATED:20241129T083639Z
DESCRIPTION:Summary \n\n\nThe Independent Evaluation Unit (IEU) hosted a Le
 arning Talk titled 'What Works in GCF Agriculture Projects.' The session e
 xplored evidence-based insights into the effectiveness of components of GC
 F-supported agricultural projects\, highlighting findings from LORTA (the 
 Learning-Oriented Real-Time Impact Assessment program).
DTSTART;TZID=Asia/Seoul:20241107T000000
DTEND;TZID=Asia/Seoul:20241107T000000
LAST-MODIFIED:20241204T143232Z
LOCATION:Songdo\, Incheon
SUMMARY:Learning Talk: What Works in GCF Agriculture Projects
URL;TYPE=URI:https://ieu.greenclimate.fund/node/1919
END:VEVENT
END:VCALENDAR
