BEGIN:VCALENDAR
VERSION:2.0
PRODID:-//Date iCal//NONSGML kigkonsult.se iCalcreator 2.20.2//
METHOD:PUBLISH
BEGIN:VTIMEZONE
TZID:Asia/Seoul
BEGIN:STANDARD
DTSTART:19881009T030000
TZOFFSETFROM:+1000
TZOFFSETTO:+0900
TZNAME:KST
END:STANDARD
END:VTIMEZONE
BEGIN:VEVENT
UID:calendar.1909.field_date_content.0@ieu.greenclimate.fund
DTSTAMP:20260425T175235Z
CREATED:20241030T032308Z
DESCRIPTION:The IEU will organize and take part in several events at the CO
 P29 taking place in person from 11 to 22 November in Azerbaijan.
DTSTART;TZID=Asia/Seoul:20241111T000000
DTEND;TZID=Asia/Seoul:20241111T000000
LAST-MODIFIED:20241119T030738Z
LOCATION:Baku
SUMMARY:IEU at COP29
URL;TYPE=URI:https://ieu.greenclimate.fund/event/ieu-cop29
END:VEVENT
END:VCALENDAR
