BEGIN:VCALENDAR
VERSION:2.0
PRODID:-//Date iCal//NONSGML kigkonsult.se iCalcreator 2.20.2//
METHOD:PUBLISH
BEGIN:VTIMEZONE
TZID:Asia/Seoul
BEGIN:STANDARD
DTSTART:19881009T030000
TZOFFSETFROM:+1000
TZOFFSETTO:+0900
TZNAME:KST
END:STANDARD
END:VTIMEZONE
BEGIN:VEVENT
UID:calendar.1864.field_date_content.0@ieu.greenclimate.fund
DTSTAMP:20260419T132558Z
CREATED:20240910T090346Z
DESCRIPTION:The IEU will take part in several events at the 2024 Asian Eval
 uation Week (AEW) taking place in person from 2 - 5 September in Shanghai\
 , the People's Republic of China. 
DTSTART;TZID=Asia/Seoul:20240902T000000
DTEND;TZID=Asia/Seoul:20240902T000000
LAST-MODIFIED:20240910T091144Z
LOCATION:Shanghai
SUMMARY:IEU at 2024 Asian Evaluation Week: Innovations for Influential Eval
 uations
URL;TYPE=URI:https://ieu.greenclimate.fund/event/ieu-2024-asian-evaluation-
 week-innovations-influential-evaluations
END:VEVENT
END:VCALENDAR
