BEGIN:VCALENDAR
VERSION:2.0
PRODID:-//Date iCal//NONSGML kigkonsult.se iCalcreator 2.20.2//
METHOD:PUBLISH
BEGIN:VTIMEZONE
TZID:Asia/Seoul
BEGIN:STANDARD
DTSTART:19881009T030000
TZOFFSETFROM:+1000
TZOFFSETTO:+0900
TZNAME:KST
END:STANDARD
END:VTIMEZONE
BEGIN:VEVENT
UID:calendar.1748.field_date_content.0@ieu.greenclimate.fund
DTSTAMP:20260423T112435Z
CREATED:20240215T025436Z
DESCRIPTION:Summary\n\n\nOn 21 February\, the IEU held a learning talk on t
 he direct access in the GCF with the Division of Country Programming and D
 ivision of Mitigation and Adaptation.\n\n\nThis learning talk summarised t
 he findings from the IEU's Direct Access Synthesis\, focused on the grants
  now available under the Readiness DAE support modality and shared updates
  on the DAE Action Plan.
DTSTART;TZID=Asia/Seoul:20240221T000000
DTEND;TZID=Asia/Seoul:20240221T000000
LAST-MODIFIED:20240318T032033Z
LOCATION:Hybrid
SUMMARY:IEU Learning Talk: Direct Access in the GCF
URL;TYPE=URI:https://ieu.greenclimate.fund/event/ieu-learning-talk-direct-a
 ccess-gcf
END:VEVENT
END:VCALENDAR
