BEGIN:VCALENDAR
VERSION:2.0
PRODID:-//Date iCal//NONSGML kigkonsult.se iCalcreator 2.20.2//
METHOD:PUBLISH
BEGIN:VTIMEZONE
TZID:Asia/Seoul
BEGIN:STANDARD
DTSTART:19881009T030000
TZOFFSETFROM:+1000
TZOFFSETTO:+0900
TZNAME:KST
END:STANDARD
END:VTIMEZONE
BEGIN:VEVENT
UID:calendar.1714.field_date_content.0@ieu.greenclimate.fund
DTSTAMP:20260420T185017Z
CREATED:20231116T072806Z
DESCRIPTION:Summary
DTSTART;TZID=Asia/Seoul:20231129T000000
DTEND;TZID=Asia/Seoul:20231129T000000
LAST-MODIFIED:20240404T045345Z
LOCATION:Hybrid
SUMMARY:Learning Talk: Just Transition – What Does the Evidence Say?
URL;TYPE=URI:https://ieu.greenclimate.fund/event/learning-talk-just-transit
 ion
END:VEVENT
END:VCALENDAR
