BEGIN:VCALENDAR
VERSION:2.0
PRODID:-//Date iCal//NONSGML kigkonsult.se iCalcreator 2.20.2//
METHOD:PUBLISH
BEGIN:VTIMEZONE
TZID:Asia/Seoul
BEGIN:STANDARD
DTSTART:19881009T030000
TZOFFSETFROM:+1000
TZOFFSETTO:+0900
TZNAME:KST
END:STANDARD
END:VTIMEZONE
BEGIN:VEVENT
UID:calendar.1655.field_date_content.0@ieu.greenclimate.fund
DTSTAMP:20260419T115509Z
CREATED:20230817T051356Z
DESCRIPTION:Summary\n\n\nOn 6 September\, the IEU held a learning talk on l
 earnings from the IEU’s impact evaluation programme - LORTA - in the form 
 of a roundtable between the Independent Evaluation Unit and Division of Mi
 tigation and Adaptation (DMA). The roundtable first focused on current pro
 gramming trends within agriculture and climate information services\, exis
 ting knowledge gaps\, and how these can be overcome. The roundtable then b
 roadened out to focus on the project design and review process.
DTSTART;TZID=Asia/Seoul:20230906T000000
DTEND;TZID=Asia/Seoul:20230906T000000
LAST-MODIFIED:20240404T050328Z
LOCATION:Hybrid
SUMMARY:Learning Talk: IEU-DMA Roundtable on LORTA Impact Evaluations
URL;TYPE=URI:https://ieu.greenclimate.fund/event/learning-talk-roundtable-l
 orta
END:VEVENT
END:VCALENDAR
