BEGIN:VCALENDAR
VERSION:2.0
PRODID:-//Date iCal//NONSGML kigkonsult.se iCalcreator 2.20.2//
METHOD:PUBLISH
BEGIN:VTIMEZONE
TZID:Asia/Seoul
BEGIN:STANDARD
DTSTART:19881009T030000
TZOFFSETFROM:+1000
TZOFFSETTO:+0900
TZNAME:KST
END:STANDARD
END:VTIMEZONE
BEGIN:VEVENT
UID:calendar.1649.field_date_content.0@ieu.greenclimate.fund
DTSTAMP:20260420T040341Z
CREATED:20230809T002856Z
DESCRIPTION:The IEU will take part in several events at the 2023 Asian Eval
 uation Week (AEW) taking place in person from 11 - 14 September in Bangkok
 \, Thailand.
DTSTART;TZID=Asia/Seoul:20230911T000000
DTEND;TZID=Asia/Seoul:20230911T000000
LAST-MODIFIED:20230922T092933Z
LOCATION:Bangkok
SUMMARY:IEU at 2023 Asian Evaluation Week: Beyond Recovery: Evaluation for 
 Development Effectiveness
URL;TYPE=URI:https://ieu.greenclimate.fund/event/asian-evaluation-week-2023
END:VEVENT
END:VCALENDAR
