BEGIN:VCALENDAR
VERSION:2.0
PRODID:-//Date iCal//NONSGML kigkonsult.se iCalcreator 2.20.2//
METHOD:PUBLISH
BEGIN:VTIMEZONE
TZID:Asia/Seoul
BEGIN:STANDARD
DTSTART:19881009T030000
TZOFFSETFROM:+1000
TZOFFSETTO:+0900
TZNAME:KST
END:STANDARD
END:VTIMEZONE
BEGIN:VEVENT
UID:calendar.1640.field_date_content.0@ieu.greenclimate.fund
DTSTAMP:20260423T094826Z
CREATED:20230714T072820Z
DESCRIPTION:IEU Head Andreas Reumann will take part in the Second workshop 
 on addressing loss and damage in the context of decisions 2/CP.27 and 2/CM
 A.4.\nProvisional Programme\n\n\nDate: Saturday 15 July2023\n	Time: 9:00am 
 - 6:00pm(Bangkok)\n\n\nWatch the recording here: \n\n\nDay 1 Recording
DTSTART;TZID=Asia/Seoul:20230715T000000
DTEND;TZID=Asia/Seoul:20230715T000000
LAST-MODIFIED:20230718T085817Z
LOCATION:Bangkok
SUMMARY:IEU at UN Loss and Damage Workshop - Bangkok
URL;TYPE=URI:https://ieu.greenclimate.fund/event/ieu-un-loss-and-damage-wor
 kshop-bangkok
END:VEVENT
END:VCALENDAR
