BEGIN:VCALENDAR
VERSION:2.0
PRODID:-//Date iCal//NONSGML kigkonsult.se iCalcreator 2.20.2//
METHOD:PUBLISH
BEGIN:VTIMEZONE
TZID:Asia/Seoul
BEGIN:STANDARD
DTSTART:19881009T030000
TZOFFSETFROM:+1000
TZOFFSETTO:+0900
TZNAME:KST
END:STANDARD
END:VTIMEZONE
BEGIN:VEVENT
UID:calendar.1604.field_date_content.0@ieu.greenclimate.fund
DTSTAMP:20260420T131457Z
CREATED:20230517T082249Z
DESCRIPTION:Using evidence from behavioural science for climate action\n\n
 \nDuring the 2023 UN Behavioural Science week\, the IEU\, together with IF
 AD\, will organize the session 'Using evidence from behavioural science fo
 r climate action.'\nEvent Information\n\n\nDate: Monday 12 June 2023\n	Time
 : 5-6pm CEST \n	Format: hyrbid 
DTSTART;TZID=Asia/Seoul:20230612T000000
DTEND;TZID=Asia/Seoul:20230612T000000
LAST-MODIFIED:20230627T063240Z
LOCATION:Online
SUMMARY:IEU at 2023 UN Behavioural Science Week
URL;TYPE=URI:https://ieu.greenclimate.fund/event/ieu-2023-un-behavioural-sc
 ience-week
END:VEVENT
END:VCALENDAR
