BEGIN:VCALENDAR
VERSION:2.0
PRODID:-//Date iCal//NONSGML kigkonsult.se iCalcreator 2.20.2//
METHOD:PUBLISH
BEGIN:VTIMEZONE
TZID:Asia/Seoul
BEGIN:STANDARD
DTSTART:19881009T030000
TZOFFSETFROM:+1000
TZOFFSETTO:+0900
TZNAME:KST
END:STANDARD
END:VTIMEZONE
BEGIN:VEVENT
UID:calendar.1600.field_date_content.0@ieu.greenclimate.fund
DTSTAMP:20260423T172253Z
CREATED:20230515T044442Z
DESCRIPTION:Lessons from Impact Evaluations of Climate Change Interventions
 \n\n\nDuring gLOCAL Evaluation Week 2023 the IEU's LORTA Programme will or
 ganize the session ' Lessons from Impact Evaluations of Climate Change Int
 erventions.'
DTSTART;TZID=Asia/Seoul:20230602T000000
DTEND;TZID=Asia/Seoul:20230602T000000
LAST-MODIFIED:20230607T070041Z
LOCATION:Online
SUMMARY:IEU at gLOCAL Evaluation Week 2023: The Future of M&E: Culture\, Co
 ntext\, and Collaboration
URL;TYPE=URI:https://ieu.greenclimate.fund/event/ieu-glocal-evaluation-week
 -2023-future-me-culture-context-and-collaboration
END:VEVENT
END:VCALENDAR
