BEGIN:VCALENDAR
VERSION:2.0
PRODID:-//Date iCal//NONSGML kigkonsult.se iCalcreator 2.20.2//
METHOD:PUBLISH
BEGIN:VTIMEZONE
TZID:Asia/Seoul
BEGIN:STANDARD
DTSTART:19881009T030000
TZOFFSETFROM:+1000
TZOFFSETTO:+0900
TZNAME:KST
END:STANDARD
END:VTIMEZONE
BEGIN:VEVENT
UID:calendar.1421.field_date_content.0@ieu.greenclimate.fund
DTSTAMP:20260419T213204Z
CREATED:20220607T025838Z
DESCRIPTION:In 2021\, the IEU organized a 10-week long workshop as part of 
 its Learning-Oriented Real-Time Impact Assessment (LORTA) programme. The w
 orkshop was designed to support selected accredited entities of the Green 
 Climate Fund\, project managers\, and M&E teams to measure the impact of t
 heir GCF-funded projects.
DTSTART;TZID=Asia/Seoul:20210830T000000
DTEND;TZID=Asia/Seoul:20210830T000000
LAST-MODIFIED:20240416T073335Z
LOCATION:Online
SUMMARY:LORTA Virtual Design Workshop 2021
URL;TYPE=URI:https://ieu.greenclimate.fund/event/lorta-virtual-design-works
 hop-2021
END:VEVENT
END:VCALENDAR
