BEGIN:VCALENDAR
VERSION:2.0
PRODID:-//Date iCal//NONSGML kigkonsult.se iCalcreator 2.20.2//
METHOD:PUBLISH
BEGIN:VTIMEZONE
TZID:Asia/Seoul
BEGIN:STANDARD
DTSTART:19881009T030000
TZOFFSETFROM:+1000
TZOFFSETTO:+0900
TZNAME:KST
END:STANDARD
END:VTIMEZONE
BEGIN:VEVENT
UID:calendar.1377.field_date_content.0@ieu.greenclimate.fund
DTSTAMP:20260419T130614Z
CREATED:20220307T100201Z
DESCRIPTION:Mark your calendar for the IEU Partners’ Meeting! The 2022 Meet
 ing of IEU Partners event provides an exciting opportunity for the IEU and
  its partners to get to know each other better and to identify possible ar
 eas for collaboration. It also provides an opportunity for IEU partners to
  develop mutual familiarity and networks.
DTSTART;TZID=Asia/Seoul:20220310T000000
DTEND;TZID=Asia/Seoul:20220310T000000
LAST-MODIFIED:20220311T032122Z
LOCATION:Online
SUMMARY:2022 Meeting of IEU Partners
URL;TYPE=URI:https://ieu.greenclimate.fund/event/2022-meeting-ieu-partners
END:VEVENT
END:VCALENDAR
