BEGIN:VCALENDAR
VERSION:2.0
PRODID:-//Date iCal//NONSGML kigkonsult.se iCalcreator 2.20.2//
METHOD:PUBLISH
BEGIN:VTIMEZONE
TZID:Asia/Seoul
BEGIN:STANDARD
DTSTART:19881009T030000
TZOFFSETFROM:+1000
TZOFFSETTO:+0900
TZNAME:KST
END:STANDARD
END:VTIMEZONE
BEGIN:VEVENT
UID:calendar.1370.field_date_content.0@ieu.greenclimate.fund
DTSTAMP:20260425T175225Z
CREATED:20220204T024425Z
DESCRIPTION:On 20 January 2022\, the IEU’s Yeonji Kim took part in a climat
 e finance capacity building forum organised by Belize’s Ministry of Financ
 e\, Economic Development & Investment (the National Designated Authority o
 f Belize to the Green Climate Fund) and the Belize Chamber of Commerce and
  Industry (BCCI)\, with assistance from Willis Towers Watson.
DTSTART;TZID=Asia/Seoul:20220120T000000
DTEND;TZID=Asia/Seoul:20220120T000000
LAST-MODIFIED:20220209T012238Z
LOCATION:Online
SUMMARY:IEU at Belize's 'Climate Finance Capacity Building Forum'
URL;TYPE=URI:https://ieu.greenclimate.fund/event/ieu-belizes-climate-financ
 e-capacity-building-forum
END:VEVENT
END:VCALENDAR
