BEGIN:VCALENDAR
VERSION:2.0
PRODID:-//Date iCal//NONSGML kigkonsult.se iCalcreator 2.20.2//
METHOD:PUBLISH
BEGIN:VTIMEZONE
TZID:Asia/Seoul
BEGIN:STANDARD
DTSTART:19881009T030000
TZOFFSETFROM:+1000
TZOFFSETTO:+0900
TZNAME:KST
END:STANDARD
END:VTIMEZONE
BEGIN:VEVENT
UID:calendar.1243.field_date_content.0@ieu.greenclimate.fund
DTSTAMP:20260420T040332Z
CREATED:20211020T031053Z
DESCRIPTION:The IEU spoke at the CoP26 in Glasgow.\n\n\nPlease note that la
 st-minute changes to the list of speakers may not be reflected here.
DTSTART;TZID=Asia/Seoul:20211031T000000
DTEND;TZID=Asia/Seoul:20211031T000000
LAST-MODIFIED:20220524T060914Z
LOCATION:Glasgow
SUMMARY:IEU at COP26
URL;TYPE=URI:https://ieu.greenclimate.fund/event/cop26
END:VEVENT
END:VCALENDAR
